Package: VplotR Version: 1.19.1 Command: /home/biocbuild/bbs-3.22-bioc/R/bin/R CMD check --install=check:VplotR.install-out.txt --library=/home/biocbuild/bbs-3.22-bioc/R/site-library --timings VplotR_1.19.1.tar.gz StartedAt: 2025-10-15 05:32:33 -0400 (Wed, 15 Oct 2025) EndedAt: 2025-10-15 05:39:47 -0400 (Wed, 15 Oct 2025) EllapsedTime: 433.4 seconds RetCode: 0 Status: OK CheckDir: VplotR.Rcheck Warnings: 0