Package: Voyager Version: 1.11.0 Command: /home/biocbuild/bbs-3.22-bioc/R/bin/R CMD INSTALL Voyager StartedAt: 2025-10-24 15:49:02 -0400 (Fri, 24 Oct 2025) EndedAt: 2025-10-24 15:49:54 -0400 (Fri, 24 Oct 2025) EllapsedTime: 51.4 seconds RetCode: 0 Status: OK