Package: Voyager Version: 1.9.2 Command: /Library/Frameworks/R.framework/Resources/bin/R CMD INSTALL Voyager StartedAt: 2025-02-02 15:37:45 -0500 (Sun, 02 Feb 2025) EndedAt: 2025-02-02 15:38:54 -0500 (Sun, 02 Feb 2025) EllapsedTime: 68.7 seconds RetCode: 0 Status: OK