Package: Voyager Version: 1.11.0 Command: rm -rf Voyager.buildbin-libdir && mkdir Voyager.buildbin-libdir && /Users/biocbuild/BBS/utils/build-universal.sh Voyager_1.11.0.tar.gz /Library/Frameworks/R.framework/Resources/bin/R Voyager.buildbin-libdir StartedAt: 2025-04-28 01:05:12 -0400 (Mon, 28 Apr 2025) EndedAt: 2025-04-28 01:06:22 -0400 (Mon, 28 Apr 2025) EllapsedTime: 69.7 seconds RetCode: 0 Status: OK PackageFile: Voyager_1.11.0.tgz PackageFileSize: 4.638 MiB