Package: Voyager Version: 1.11.0 Command: rm -rf Voyager.buildbin-libdir && mkdir Voyager.buildbin-libdir && /Users/biocbuild/BBS/utils/build-universal.sh Voyager_1.11.0.tar.gz /Library/Frameworks/R.framework/Resources/bin/R Voyager.buildbin-libdir StartedAt: 2025-05-08 23:35:16 -0400 (Thu, 08 May 2025) EndedAt: 2025-05-08 23:35:40 -0400 (Thu, 08 May 2025) EllapsedTime: 24.6 seconds RetCode: 0 Status: OK PackageFile: Voyager_1.11.0.tgz PackageFileSize: 4.64 MiB