Package: ViSEAGO Version: 1.23.0 Command: /home/biocbuild/R/R/bin/R CMD build --keep-empty-dirs --no-resave-data ViSEAGO StartedAt: 2025-10-03 04:07:29 -0000 (Fri, 03 Oct 2025) EndedAt: 2025-10-03 04:08:49 -0000 (Fri, 03 Oct 2025) EllapsedTime: 80.0 seconds RetCode: 0 Status: OK PackageFile: ViSEAGO_1.23.0.tar.gz PackageFileSize: 8.725 MiB