Package: ViSEAGO Version: 1.23.0 Command: chmod a+r ViSEAGO -R && F:\biocbuild\bbs-3.22-bioc\R\bin\R.exe CMD build --keep-empty-dirs --no-resave-data ViSEAGO StartedAt: 2025-08-14 23:57:15 -0400 (Thu, 14 Aug 2025) EndedAt: 2025-08-14 23:58:41 -0400 (Thu, 14 Aug 2025) EllapsedTime: 85.1 seconds RetCode: 0 Status: OK PackageFile: ViSEAGO_1.23.0.tar.gz PackageFileSize: 8.624 MiB