Package: ViSEAGO Version: 1.21.0 Command: /Library/Frameworks/R.framework/Resources/bin/R CMD build --keep-empty-dirs --no-resave-data ViSEAGO StartedAt: 2025-02-19 18:36:55 -0500 (Wed, 19 Feb 2025) EndedAt: 2025-02-19 18:38:00 -0500 (Wed, 19 Feb 2025) EllapsedTime: 65.0 seconds RetCode: 0 Status: OK PackageFile: ViSEAGO_1.21.0.tar.gz PackageFileSize: 8.623 MiB