Package: ViSEAGO Version: 1.23.0 Command: rm -rf ViSEAGO.buildbin-libdir && mkdir ViSEAGO.buildbin-libdir && /Users/biocbuild/BBS/utils/build-universal.sh ViSEAGO_1.23.0.tar.gz /Library/Frameworks/R.framework/Resources/bin/R ViSEAGO.buildbin-libdir StartedAt: 2025-10-15 23:06:33 -0400 (Wed, 15 Oct 2025) EndedAt: 2025-10-15 23:06:48 -0400 (Wed, 15 Oct 2025) EllapsedTime: 15.3 seconds RetCode: 0 Status: OK PackageFile: ViSEAGO_1.23.0.tgz PackageFileSize: 9.119 MiB