Package: VegaMC Version: 3.47.0 Command: /home/biocbuild/bbs-3.22-bioc/R/bin/R CMD INSTALL VegaMC StartedAt: 2025-10-07 15:25:34 -0400 (Tue, 07 Oct 2025) EndedAt: 2025-10-07 15:25:49 -0400 (Tue, 07 Oct 2025) EllapsedTime: 14.3 seconds RetCode: 0 Status: OK