Package: VegaMC Version: 3.47.0 Command: /home/biocbuild/bbs-3.22-bioc/R/bin/R CMD build --keep-empty-dirs --no-resave-data --md5 VegaMC StartedAt: 2025-10-07 20:44:57 -0400 (Tue, 07 Oct 2025) EndedAt: 2025-10-07 20:45:23 -0400 (Tue, 07 Oct 2025) EllapsedTime: 26.0 seconds RetCode: 0 Status: OK PackageFile: VegaMC_3.47.0.tar.gz PackageFileSize: 1.778 MiB