Package: VariantTools Version: 1.51.0 Command: /Library/Frameworks/R.framework/Resources/bin/R CMD check --install=check:VariantTools.install-out.txt --library=/Library/Frameworks/R.framework/Resources/library --no-vignettes --timings VariantTools_1.51.0.tar.gz StartedAt: 2025-05-16 00:04:26 -0400 (Fri, 16 May 2025) EndedAt: 2025-05-16 00:10:54 -0400 (Fri, 16 May 2025) EllapsedTime: 387.9 seconds RetCode: 0 Status: WARNINGS CheckDir: VariantTools.Rcheck Warnings: 2