Package: VariantTools Version: 1.51.0 Command: rm -rf VariantTools.buildbin-libdir && mkdir VariantTools.buildbin-libdir && /Users/biocbuild/BBS/utils/build-universal.sh VariantTools_1.51.0.tar.gz /Library/Frameworks/R.framework/Resources/bin/R VariantTools.buildbin-libdir StartedAt: 2025-05-16 00:58:28 -0400 (Fri, 16 May 2025) EndedAt: 2025-05-16 00:59:26 -0400 (Fri, 16 May 2025) EllapsedTime: 57.1 seconds RetCode: 0 Status: OK PackageFile: VariantTools_1.51.0.tgz PackageFileSize: 6.294 MiB