Package: VariantTools Version: 1.51.0 Command: /Library/Frameworks/R.framework/Resources/bin/R CMD INSTALL VariantTools StartedAt: 2025-05-16 15:21:36 -0400 (Fri, 16 May 2025) EndedAt: 2025-05-16 15:21:52 -0400 (Fri, 16 May 2025) EllapsedTime: 16.1 seconds RetCode: 0 Status: OK