Package: VariantTools Version: 1.51.0 Command: /Library/Frameworks/R.framework/Resources/bin/R CMD build --keep-empty-dirs --no-resave-data VariantTools StartedAt: 2025-05-18 17:47:40 -0400 (Sun, 18 May 2025) EndedAt: 2025-05-18 17:48:04 -0400 (Sun, 18 May 2025) EllapsedTime: 24.3 seconds RetCode: 0 Status: OK PackageFile: VariantTools_1.51.0.tar.gz PackageFileSize: 5.968 MiB