Package: VariantAnnotation Version: 1.55.1 Command: /home/biocbuild/bbs-3.22-bioc/R/bin/R CMD INSTALL VariantAnnotation StartedAt: 2025-07-22 18:29:50 -0400 (Tue, 22 Jul 2025) EndedAt: 2025-07-22 18:30:58 -0400 (Tue, 22 Jul 2025) EllapsedTime: 68.8 seconds RetCode: 0 Status: OK