Package: VariantAnnotation Version: 1.55.1 Command: /home/biocbuild/bbs-3.22-bioc/R/bin/R CMD build --keep-empty-dirs --no-resave-data --md5 VariantAnnotation StartedAt: 2025-07-22 22:31:48 -0400 (Tue, 22 Jul 2025) EndedAt: 2025-07-22 22:34:15 -0400 (Tue, 22 Jul 2025) EllapsedTime: 147.2 seconds RetCode: 0 Status: OK PackageFile: VariantAnnotation_1.55.1.tar.gz PackageFileSize: 2.047 MiB