Package: VarCon Version: 1.19.0 Command: /home/biocbuild/bbs-3.23-bioc/R/bin/R CMD INSTALL VarCon StartedAt: 2025-11-27 15:31:22 -0500 (Thu, 27 Nov 2025) EndedAt: 2025-11-27 15:32:00 -0500 (Thu, 27 Nov 2025) EllapsedTime: 38.4 seconds RetCode: 0 Status: OK