Package: VanillaICE Version: 1.71.0 Command: /home/biocbuild/R/R/bin/R CMD build --keep-empty-dirs --no-resave-data VanillaICE StartedAt: 2025-09-30 04:08:38 -0000 (Tue, 30 Sep 2025) EndedAt: 2025-09-30 04:08:39 -0000 (Tue, 30 Sep 2025) EllapsedTime: 1.0 seconds RetCode: 1 Status: ERROR PackageFile: None PackageFileSize: NA