Package: VanillaICE Version: 1.71.0 Command: chmod a+r VanillaICE -R && F:\biocbuild\bbs-3.22-bioc\R\bin\R.exe CMD build --keep-empty-dirs --no-resave-data VanillaICE StartedAt: 2025-08-14 23:55:22 -0400 (Thu, 14 Aug 2025) EndedAt: 2025-08-14 23:57:36 -0400 (Thu, 14 Aug 2025) EllapsedTime: 134.1 seconds RetCode: 0 Status: OK PackageFile: VanillaICE_1.71.0.tar.gz PackageFileSize: 1.8 MiB