Package: VanillaICE Version: 1.69.0 Command: chmod a+r VanillaICE -R && E:\biocbuild\bbs-3.21-bioc\R\bin\R.exe CMD build --keep-empty-dirs --no-resave-data VanillaICE StartedAt: 2025-02-02 22:10:02 -0500 (Sun, 02 Feb 2025) EndedAt: 2025-02-02 22:10:08 -0500 (Sun, 02 Feb 2025) EllapsedTime: 6.9 seconds RetCode: 1 Status: ERROR PackageFile: None PackageFileSize: NA