############################################################################## ############################################################################## ### ### Running command: ### ### chmod a+r VanillaICE -R && E:\biocbuild\bbs-3.21-bioc\R\bin\R.exe CMD build --keep-empty-dirs --no-resave-data VanillaICE ### ############################################################################## ############################################################################## * checking for file 'VanillaICE/DESCRIPTION' ... OK * preparing 'VanillaICE': * checking DESCRIPTION meta-information ... OK * cleaning src * installing the package to build vignettes ----------------------------------- ERROR: dependency 'crlmm' is not available for package 'VanillaICE' Perhaps try a variation of: install.packages('crlmm') * removing 'E:/biocbuild/bbs-3.21-bioc/tmpdir/Rtmpct77M9/Rinst111703daf23e5/VanillaICE' ----------------------------------- ERROR: package installation failed