Package: VanillaICE Version: 1.71.0 Command: /home/biocbuild/bbs-3.22-bioc/R/bin/R CMD INSTALL VanillaICE StartedAt: 2025-10-14 15:34:30 -0400 (Tue, 14 Oct 2025) EndedAt: 2025-10-14 15:35:05 -0400 (Tue, 14 Oct 2025) EllapsedTime: 34.8 seconds RetCode: 0 Status: OK