Package: VanillaICE Version: 1.71.0 Command: /home/biocbuild/bbs-3.22-bioc/R/bin/R CMD build --keep-empty-dirs --no-resave-data --md5 VanillaICE StartedAt: 2025-10-14 20:40:16 -0400 (Tue, 14 Oct 2025) EndedAt: 2025-10-14 20:41:16 -0400 (Tue, 14 Oct 2025) EllapsedTime: 60.1 seconds RetCode: 0 Status: OK PackageFile: VanillaICE_1.71.0.tar.gz PackageFileSize: 2.077 MiB