Package: VanillaICE Version: 1.69.0 Command: /home/biocbuild/bbs-3.21-bioc/R/bin/R CMD INSTALL VanillaICE StartedAt: 2025-02-03 15:42:27 -0500 (Mon, 03 Feb 2025) EndedAt: 2025-02-03 15:42:28 -0500 (Mon, 03 Feb 2025) EllapsedTime: 0.7 seconds RetCode: 1 Status: ERROR