Package: VanillaICE Version: 1.69.0 Command: /Library/Frameworks/R.framework/Resources/bin/R CMD INSTALL VanillaICE StartedAt: 2025-02-05 15:18:22 -0500 (Wed, 05 Feb 2025) EndedAt: 2025-02-05 15:18:23 -0500 (Wed, 05 Feb 2025) EllapsedTime: 0.8 seconds RetCode: 1 Status: ERROR