Package: VanillaICE Version: 1.69.0 Command: /Library/Frameworks/R.framework/Resources/bin/R CMD build --keep-empty-dirs --no-resave-data VanillaICE StartedAt: 2025-02-05 18:39:41 -0500 (Wed, 05 Feb 2025) EndedAt: 2025-02-05 18:39:43 -0500 (Wed, 05 Feb 2025) EllapsedTime: 2.3 seconds RetCode: 1 Status: ERROR PackageFile: None PackageFileSize: NA