Package: VanillaICE Version: 1.69.0 Command: /home/biocbuild/R/R/bin/R CMD INSTALL VanillaICE StartedAt: 2025-01-29 19:54:37 -0000 (Wed, 29 Jan 2025) EndedAt: 2025-01-29 19:54:38 -0000 (Wed, 29 Jan 2025) EllapsedTime: 1.1 seconds RetCode: 1 Status: ERROR