Package: VanillaICE Version: 1.69.0 Command: /home/biocbuild/R/R/bin/R CMD build --keep-empty-dirs --no-resave-data VanillaICE StartedAt: 2025-01-28 03:06:30 -0000 (Tue, 28 Jan 2025) EndedAt: 2025-01-28 03:06:31 -0000 (Tue, 28 Jan 2025) EllapsedTime: 1.0 seconds RetCode: 1 Status: ERROR PackageFile: None PackageFileSize: NA