Package: VanillaICE Version: 1.69.0 Command: /Library/Frameworks/R.framework/Resources/bin/R CMD INSTALL VanillaICE StartedAt: 2025-01-31 15:10:23 -0500 (Fri, 31 Jan 2025) EndedAt: 2025-01-31 15:10:24 -0500 (Fri, 31 Jan 2025) EllapsedTime: 1.2 seconds RetCode: 1 Status: ERROR