Package: VaSP Version: 1.21.0 Command: rm -rf VaSP.buildbin-libdir && mkdir VaSP.buildbin-libdir && /Users/biocbuild/BBS/utils/build-universal.sh VaSP_1.21.0.tar.gz /Library/Frameworks/R.framework/Resources/bin/R VaSP.buildbin-libdir StartedAt: 2025-05-05 23:46:21 -0400 (Mon, 05 May 2025) EndedAt: 2025-05-05 23:46:39 -0400 (Mon, 05 May 2025) EllapsedTime: 17.3 seconds RetCode: 0 Status: OK PackageFile: VaSP_1.21.0.tgz PackageFileSize: 5.731 MiB