Package: VDJdive Version: 1.11.0 Command: /home/biocbuild/bbs-3.22-bioc/R/bin/R CMD INSTALL VDJdive StartedAt: 2025-10-28 15:32:01 -0400 (Tue, 28 Oct 2025) EndedAt: 2025-10-28 15:32:26 -0400 (Tue, 28 Oct 2025) EllapsedTime: 25.3 seconds RetCode: 0 Status: OK