Package: VCFArray Version: 1.25.0 Command: /home/biocbuild/bbs-3.22-bioc/R/bin/R CMD INSTALL VCFArray StartedAt: 2025-07-22 18:48:25 -0400 (Tue, 22 Jul 2025) EndedAt: 2025-07-22 18:49:07 -0400 (Tue, 22 Jul 2025) EllapsedTime: 42.3 seconds RetCode: 0 Status: OK