Package: VCFArray Version: 1.25.0 Command: /home/biocbuild/bbs-3.22-bioc/R/bin/R CMD check --install=check:VCFArray.install-out.txt --library=/home/biocbuild/bbs-3.22-bioc/R/site-library --timings VCFArray_1.25.0.tar.gz StartedAt: 2025-10-01 05:24:41 -0400 (Wed, 01 Oct 2025) EndedAt: 2025-10-01 05:30:09 -0400 (Wed, 01 Oct 2025) EllapsedTime: 328.3 seconds RetCode: 0 Status: OK CheckDir: VCFArray.Rcheck Warnings: 0