Package: VCFArray Version: 1.25.0 Command: /home/biocbuild/bbs-3.22-bioc/R/bin/R CMD build --keep-empty-dirs --no-resave-data --md5 VCFArray StartedAt: 2025-07-22 22:32:21 -0400 (Tue, 22 Jul 2025) EndedAt: 2025-07-22 22:33:34 -0400 (Tue, 22 Jul 2025) EllapsedTime: 73.1 seconds RetCode: 0 Status: OK PackageFile: VCFArray_1.25.0.tar.gz PackageFileSize: 303.1 KiB