Package: VAExprs Version: 1.15.0 Command: /home/biocbuild/bbs-3.22-bioc/R/bin/R CMD INSTALL VAExprs StartedAt: 2025-10-02 15:56:18 -0400 (Thu, 02 Oct 2025) EndedAt: 2025-10-02 15:56:53 -0400 (Thu, 02 Oct 2025) EllapsedTime: 35.5 seconds RetCode: 0 Status: OK