Package: VAExprs Version: 1.15.0 Command: /home/biocbuild/bbs-3.22-bioc/R/bin/R CMD build --keep-empty-dirs --no-resave-data --md5 VAExprs StartedAt: 2025-10-02 20:39:19 -0400 (Thu, 02 Oct 2025) EndedAt: 2025-10-02 20:39:58 -0400 (Thu, 02 Oct 2025) EllapsedTime: 39.0 seconds RetCode: 0 Status: OK PackageFile: VAExprs_1.15.0.tar.gz PackageFileSize: 562.5 KiB