Package: VAExprs Version: 1.17.0 Command: rm -rf VAExprs.buildbin-libdir && mkdir VAExprs.buildbin-libdir && /Users/biocbuild/BBS/utils/build-universal.sh VAExprs_1.17.0.tar.gz /Library/Frameworks/R.framework/Resources/bin/R VAExprs.buildbin-libdir StartedAt: 2025-11-16 23:57:12 -0500 (Sun, 16 Nov 2025) EndedAt: 2025-11-16 23:57:30 -0500 (Sun, 16 Nov 2025) EllapsedTime: 17.3 seconds RetCode: 0 Status: OK PackageFile: VAExprs_1.17.0.tgz PackageFileSize: 241.3 KiB