Package: Uniquorn Version: 2.29.1 Command: /home/biocbuild/bbs-3.22-bioc/R/bin/R CMD INSTALL Uniquorn StartedAt: 2025-10-12 15:39:40 -0400 (Sun, 12 Oct 2025) EndedAt: 2025-10-12 15:40:18 -0400 (Sun, 12 Oct 2025) EllapsedTime: 37.7 seconds RetCode: 0 Status: OK