Package: Uniquorn Version: 2.29.1 Command: /home/biocbuild/bbs-3.22-bioc/R/bin/R CMD build --keep-empty-dirs --no-resave-data --md5 Uniquorn StartedAt: 2025-10-12 20:36:00 -0400 (Sun, 12 Oct 2025) EndedAt: 2025-10-12 20:36:40 -0400 (Sun, 12 Oct 2025) EllapsedTime: 40.0 seconds RetCode: 0 Status: OK PackageFile: Uniquorn_2.29.1.tar.gz PackageFileSize: 2.198 MiB