Package: UniProt.ws Version: 2.51.0 Command: /home/biocbuild/bbs-3.23-bioc/R/bin/R CMD INSTALL UniProt.ws StartedAt: 2025-11-24 15:30:57 -0500 (Mon, 24 Nov 2025) EndedAt: 2025-11-24 15:31:12 -0500 (Mon, 24 Nov 2025) EllapsedTime: 14.9 seconds RetCode: 0 Status: OK