Package: UNDO Version: 1.51.0 Command: rm -rf UNDO.buildbin-libdir && mkdir UNDO.buildbin-libdir && F:\biocbuild\bbs-3.22-bioc\R\bin\R.exe CMD INSTALL --build --library=UNDO.buildbin-libdir UNDO_1.51.0.tar.gz StartedAt: 2025-08-15 11:33:40 -0400 (Fri, 15 Aug 2025) EndedAt: 2025-08-15 11:33:55 -0400 (Fri, 15 Aug 2025) EllapsedTime: 14.4 seconds RetCode: 0 Status: OK PackageFile: UNDO_1.51.0.zip PackageFileSize: 2.818 MiB