Package: UMI4Cats Version: 1.19.2 Command: /home/biocbuild/bbs-3.22-bioc/R/bin/R CMD INSTALL UMI4Cats StartedAt: 2025-10-17 15:50:38 -0400 (Fri, 17 Oct 2025) EndedAt: 2025-10-17 15:51:17 -0400 (Fri, 17 Oct 2025) EllapsedTime: 39.7 seconds RetCode: 0 Status: OK