Package: UMI4Cats Version: 1.19.2 Command: /home/biocbuild/bbs-3.22-bioc/R/bin/R CMD build --keep-empty-dirs --no-resave-data --md5 UMI4Cats StartedAt: 2025-10-17 20:35:24 -0400 (Fri, 17 Oct 2025) EndedAt: 2025-10-17 20:37:12 -0400 (Fri, 17 Oct 2025) EllapsedTime: 108.1 seconds RetCode: 0 Status: OK PackageFile: UMI4Cats_1.19.2.tar.gz PackageFileSize: 3.772 MiB