Package: UMI4Cats Version: 1.17.0 Command: /home/biocbuild/bbs-3.21-bioc/R/bin/R CMD INSTALL UMI4Cats StartedAt: 2025-02-14 15:55:29 -0500 (Fri, 14 Feb 2025) EndedAt: 2025-02-14 15:56:09 -0500 (Fri, 14 Feb 2025) EllapsedTime: 40.4 seconds RetCode: 0 Status: OK