Package: UCSC.utils Version: 1.7.0 Command: /home/biocbuild/bbs-3.23-bioc/R/bin/R CMD INSTALL UCSC.utils StartedAt: 2025-11-05 15:19:26 -0500 (Wed, 05 Nov 2025) EndedAt: 2025-11-05 15:19:31 -0500 (Wed, 05 Nov 2025) EllapsedTime: 5.2 seconds RetCode: 0 Status: OK