Package: UCSC.utils Version: 1.7.0 Command: /home/biocbuild/bbs-3.23-bioc/R/bin/R CMD build --keep-empty-dirs --no-resave-data UCSC.utils StartedAt: 2025-11-05 20:39:14 -0500 (Wed, 05 Nov 2025) EndedAt: 2025-11-05 20:39:25 -0500 (Wed, 05 Nov 2025) EllapsedTime: 11.0 seconds RetCode: 0 Status: OK PackageFile: UCSC.utils_1.7.0.tar.gz PackageFileSize: 230.6 KiB