Back to Multiple platform build/check report for BioC 3.22:   simplified   long
ABCDEFGHIJKLMNOPQRST[U]VWXYZ

This page was generated on 2025-05-08 12:04 -0400 (Thu, 08 May 2025).

HostnameOSArch (*)R versionInstalled pkgs
nebbiolo2Linux (Ubuntu 24.04.1 LTS)x86_644.5.0 (2025-04-11) -- "How About a Twenty-Six" 4746
palomino8Windows Server 2022 Datacenterx644.5.0 (2025-04-11 ucrt) -- "How About a Twenty-Six" 4508
lconwaymacOS 12.7.1 Montereyx86_644.5.0 Patched (2025-04-21 r88169) -- "How About a Twenty-Six" 4547
kjohnson3macOS 13.7.1 Venturaarm644.5.0 Patched (2025-04-21 r88169) -- "How About a Twenty-Six" 4488
taishanLinux (openEuler 24.03 LTS)aarch644.5.0 (2025-04-11) -- "How About a Twenty-Six" 4441
Click on any hostname to see more info about the system (e.g. compilers)      (*) as reported by 'uname -p', except on Windows and Mac OS X

All results for package UCSC.utils


To the developers/maintainers of the UCSC.utils package:
- Allow up to 24 hours (and sometimes 48 hours) for your latest push to git@git.bioconductor.org:packages/UCSC.utils.git to reflect on this report. See Troubleshooting Build Report for more information.
- Use the following Renviron settings to reproduce errors and warnings.
- If 'R CMD check' started to fail recently on the Linux builder(s) over a missing dependency, add the missing dependency to 'Suggests:' in your DESCRIPTION file. See Renviron.bioc for more information.

raw results

Package 2231/2304HostnameOS / ArchINSTALLBUILDCHECKBUILD BIN
UCSC.utils 1.5.0  (landing page)
Hervé Pagès
Snapshot Date: 2025-05-07 13:00 -0400 (Wed, 07 May 2025)
git_url: https://git.bioconductor.org/packages/UCSC.utils
git_branch: devel
git_last_commit: 41ea0ce
git_last_commit_date: 2025-04-15 13:32:31 -0400 (Tue, 15 Apr 2025)
nebbiolo2Linux (Ubuntu 24.04.1 LTS) / x86_64  OK    OK    OK  UNNEEDED, same version is already published
palomino8Windows Server 2022 Datacenter / x64  OK    OK    ERROR    OK  
lconwaymacOS 12.7.1 Monterey / x86_64  OK    OK    OK    OK  UNNEEDED, same version is already published
kjohnson3macOS 13.7.1 Ventura / arm64  OK    OK    OK    OK  UNNEEDED, same version is already published
taishanLinux (openEuler 24.03 LTS) / aarch64  OK    OK    OK  



Results for Bioconductor software packages that depend directly on package UCSC.utils

QUICK STATSOS / ArchINSTALLBUILDCHECKBUILD BIN
nebbiolo2Linux (Ubuntu 24.04.1 LTS) / x86_64
002
002
0101
palomino8Windows Server 2022 Datacenter / x64
002
002
0101
002
lconwaymacOS 12.7.1 Monterey / x86_64
002
002
0101
002
kjohnson3macOS 13.7.1 Ventura / arm64
002
002
0101
002
taishanLinux (openEuler 24.03 LTS) / aarch64
002
002
0101
Package 1/2HostnameOS / ArchINSTALLBUILDCHECKBUILD BIN
GenomeInfoDb 1.45.3  (landing page)
Hervé Pagès
git_last_commit: c4126c1
git_last_commit_date: 2025-04-29 11:48:34 -0400
nebbiolo2Linux (Ubuntu 24.04.1 LTS) / x86_64  OK    OK    OK  UNNEEDED, same version is already published
palomino8Windows Server 2022 Datacenter / x64  OK    OK    OK    OK  UNNEEDED, same version is already published
lconwaymacOS 12.7.1 Monterey / x86_64  OK    OK    OK    OK  UNNEEDED, same version is already published
kjohnson3macOS 13.7.1 Ventura / arm64  OK    OK    OK    OK  UNNEEDED, same version is already published
taishanLinux (openEuler 24.03 LTS) / aarch64  OK    OK    ERROR  
Package 2/2HostnameOS / ArchINSTALLBUILDCHECKBUILD BIN
txdbmaker 1.5.1  (landing page)
H. Pagès
git_last_commit: 63550a2
git_last_commit_date: 2025-04-30 12:36:49 -0400
nebbiolo2Linux (Ubuntu 24.04.1 LTS) / x86_64  OK    OK    ERROR  
palomino8Windows Server 2022 Datacenter / x64  OK    OK    ERROR    OK  
lconwaymacOS 12.7.1 Monterey / x86_64  OK    OK    ERROR    OK  
kjohnson3macOS 13.7.1 Ventura / arm64  OK    OK    ERROR    OK  
taishanLinux (openEuler 24.03 LTS) / aarch64  OK    OK    OK