Package: Trendy Version: 1.31.0 Command: /home/biocbuild/bbs-3.22-bioc/R/bin/R CMD build --keep-empty-dirs --no-resave-data --md5 Trendy StartedAt: 2025-10-14 20:35:48 -0400 (Tue, 14 Oct 2025) EndedAt: 2025-10-14 20:36:52 -0400 (Tue, 14 Oct 2025) EllapsedTime: 64.0 seconds RetCode: 0 Status: OK PackageFile: Trendy_1.31.0.tar.gz PackageFileSize: 1.085 MiB