Package: Trendy Version: 1.29.0 Command: /home/biocbuild/bbs-3.21-bioc/R/bin/R CMD INSTALL Trendy StartedAt: 2025-02-14 15:50:08 -0500 (Fri, 14 Feb 2025) EndedAt: 2025-02-14 15:50:32 -0500 (Fri, 14 Feb 2025) EllapsedTime: 23.7 seconds RetCode: 0 Status: OK